BEGIN:VCALENDAR
VERSION:2.0
PRODID:-//Plone.org//NONSGML plone.app.event//EN
X-WR-TIMEZONE:America/Sao_Paulo
BEGIN:VEVENT
SUMMARY:Posse da diretoria da FACE em [ Outros espacos]
DTSTART;TZID=America/Sao_Paulo;VALUE=DATE-TIME:20221205T100000
DTEND;TZID=America/Sao_Paulo;VALUE=DATE-TIME:20221205T120000
DTSTAMP;VALUE=DATE-TIME:20260421T205120Z
UID:4eeb0b7108624bbda34e171103e4db9d@150.164.76.86:8080
CREATED;VALUE=DATE-TIME:20221121T135150Z
DESCRIPTION:<p>Suporte audiovisual e material padrão de uso do cerimonial
  </p>
LAST-MODIFIED;VALUE=DATE-TIME:20221121T135205Z
URL:http://150.164.76.86:8080/cac/agenda/10205971350821892403
END:VEVENT
BEGIN:VTIMEZONE
TZID:America/Sao_Paulo
X-LIC-LOCATION:America/Sao_Paulo
BEGIN:DAYLIGHT
DTSTART;VALUE=DATE-TIME:20221016T010000
TZNAME:BRST
TZOFFSETFROM:-0300
TZOFFSETTO:-0200
END:DAYLIGHT
END:VTIMEZONE
END:VCALENDAR
