BEGIN:VCALENDAR
VERSION:2.0
PRODID:-//Plone.org//NONSGML plone.app.event//EN
X-WR-TIMEZONE:America/Sao_Paulo
BEGIN:VEVENT
SUMMARY:CAPACIDADE EXCEDIDA em [ Em torno da Praca de Servicos Auditório 
 B302 do CAD 3 Auditório B301 do CAD 3]
DTSTART;TZID=America/Sao_Paulo;VALUE=DATE-TIME:20200730T130000
DTEND;TZID=America/Sao_Paulo;VALUE=DATE-TIME:20200731T230000
DTSTAMP;VALUE=DATE-TIME:20260424T212146Z
UID:d89e9d1ac6e44219b0248abe4f953355@150.164.76.86:8080
CREATED;VALUE=DATE-TIME:20200206T122544Z
DESCRIPTION:<p>.</p>
LAST-MODIFIED;VALUE=DATE-TIME:20200214T155912Z
URL:http://150.164.76.86:8080/cac/agenda/10187644027978244695
END:VEVENT
BEGIN:VTIMEZONE
TZID:America/Sao_Paulo
X-LIC-LOCATION:America/Sao_Paulo
BEGIN:STANDARD
DTSTART;VALUE=DATE-TIME:20200215T230000
TZNAME:BRT
TZOFFSETFROM:-0200
TZOFFSETTO:-0300
END:STANDARD
END:VTIMEZONE
END:VCALENDAR
