BEGIN:VCALENDAR
VERSION:2.0
PRODID:-//Plone.org//NONSGML plone.app.event//EN
X-WR-TIMEZONE:America/Sao_Paulo
BEGIN:VEVENT
SUMMARY:Semana da Enfermagem em [ Outros espacos]
DTSTART;TZID=America/Sao_Paulo;VALUE=DATE-TIME:20230516T080000
DTEND;TZID=America/Sao_Paulo;VALUE=DATE-TIME:20230516T123000
DTSTAMP;VALUE=DATE-TIME:20260421T133931Z
UID:0797c6cc6f4346d095f2b70b958553cd@150.164.76.86:8080
CREATED;VALUE=DATE-TIME:20230515T105129Z
DESCRIPTION:<p><span>Palestrante: Lucas Jerônimo Ribeiro da Silva</span><
 /p>\n<p><span><span>Informações gerais: Apresentação sobre relação i
 nterpessoal\, trabalho em equipe e gestão de conflito.</span></span></p>\
 n<p> </p>\n<p>Registro na agenda para fins de contabilização</p>\n<p> 
 </p>
LAST-MODIFIED;VALUE=DATE-TIME:20230515T142522Z
URL:http://150.164.76.86:8080/cac/agenda/10179127474744718698
END:VEVENT
BEGIN:VTIMEZONE
TZID:America/Sao_Paulo
X-LIC-LOCATION:America/Sao_Paulo
BEGIN:STANDARD
DTSTART;VALUE=DATE-TIME:20230225T230000
TZNAME:BRT
TZOFFSETFROM:-0200
TZOFFSETTO:-0300
END:STANDARD
END:VTIMEZONE
END:VCALENDAR
