BEGIN:VCALENDAR
VERSION:2.0
PRODID:-//Plone.org//NONSGML plone.app.event//EN
X-WR-TIMEZONE:America/Sao_Paulo
BEGIN:VEVENT
SUMMARY:CARNAVAL 2025 em [ Auditorio da Reitoria Saguao da Reitoria Gramad
 o da Reitoria Arena da praça de serviços Entorno da Praca de Servicos Au
 ditorio Nobre do CAD 1 Auditorio 1A do CAD 1 Auditorio 2A do CAD 1 Auditor
 io A102 do Cad 2 Auditorio A104 do Cad 2 Auditório B101/102 do CAD 3 Audi
 tório B106 do CAD3 Auditório B107 do CAD3 Auditório B301 do CAD 3 Audit
 ório B302 do CAD 3 Auditório B306 do CAD3 Outros espacos]
DTSTART;TZID=America/Sao_Paulo;VALUE=DATE-TIME:20250303T060000
DTEND;TZID=America/Sao_Paulo;VALUE=DATE-TIME:20250305T230000
DTSTAMP;VALUE=DATE-TIME:20260419T103150Z
UID:5ef6016acf0b4bee9ffc1b4f99329202@150.164.76.86:8080
CREATED;VALUE=DATE-TIME:20241031T170552Z
DESCRIPTION:<p>FERIADO NACIONAL</p>
LAST-MODIFIED;VALUE=DATE-TIME:20241031T180523Z
URL:http://150.164.76.86:8080/cac/agenda/10170917596281658577
END:VEVENT
BEGIN:VTIMEZONE
TZID:America/Sao_Paulo
X-LIC-LOCATION:America/Sao_Paulo
BEGIN:STANDARD
DTSTART;VALUE=DATE-TIME:20250215T230000
TZNAME:BRT
TZOFFSETFROM:-0200
TZOFFSETTO:-0300
END:STANDARD
END:VTIMEZONE
END:VCALENDAR
