BEGIN:VCALENDAR
VERSION:2.0
PRODID:-//Plone.org//NONSGML plone.app.event//EN
X-WR-TIMEZONE:America/Sao_Paulo
BEGIN:VEVENT
SUMMARY:Feira de Kilombu em [ Entorno da Praca de Servicos Arena da praça
  de serviços]
DTSTART;TZID=America/Sao_Paulo;VALUE=DATE-TIME:20241129T090000
DTEND;TZID=America/Sao_Paulo;VALUE=DATE-TIME:20241129T173000
DTSTAMP;VALUE=DATE-TIME:20260419T175716Z
UID:2d48825f07754f2f96ed900d24c570ed@150.164.76.86:8080
CREATED;VALUE=DATE-TIME:20241008T152240Z
DESCRIPTION:<p>A Feira de Kilombu será uma atividade vinculada as desenvo
 lvidas no Novembro Negro da UFMG e tem como objetivo reunir as lideranças
  quilombolas\, bem estudantes que possuam a arte como uma forma de manifes
 tação para poderem vender\, expor\, apresentar as produções que há na
 s comunidades quilombolas. A feira também contará com a presença de apr
 esentações culturais com intuito de fomentar a arte e a cultura quilombo
 la. A programação do evento também será divulgada nas páginas oficiai
 s do Novembro Negro da UFMG\, justamente para garantir que o espaço seja 
 enriquecedor. A proposta é feita pelos estudantes quilombolas da universi
 dade\, por meio do Coletivo de Estudantes Kilombolas da UFMG (COLEKi-UFMG)
 \, como uma proposta de atividades culturais e que se correlaciona com o t
 ema do ano\,</p>
LAST-MODIFIED;VALUE=DATE-TIME:20241122T101029Z
URL:http://150.164.76.86:8080/cac/agenda/10155945785540274216
END:VEVENT
BEGIN:VTIMEZONE
TZID:America/Sao_Paulo
X-LIC-LOCATION:America/Sao_Paulo
BEGIN:DAYLIGHT
DTSTART;VALUE=DATE-TIME:20241020T010000
TZNAME:BRST
TZOFFSETFROM:-0300
TZOFFSETTO:-0200
END:DAYLIGHT
END:VTIMEZONE
END:VCALENDAR
