BEGIN:VCALENDAR
VERSION:2.0
PRODID:-//Plone.org//NONSGML plone.app.event//EN
X-WR-TIMEZONE:America/Sao_Paulo
BEGIN:VEVENT
SUMMARY:Apresentação alunos Musica em [ Arena da praça de serviços]
DTSTART;TZID=America/Sao_Paulo;VALUE=DATE-TIME:20220721T173000
DTEND;TZID=America/Sao_Paulo;VALUE=DATE-TIME:20220721T190000
DTSTAMP;VALUE=DATE-TIME:20260422T044925Z
UID:1abe37ad177b4454ab4b15ada7c9c5b9@150.164.76.86:8080
CREATED;VALUE=DATE-TIME:20220714T150640Z
DESCRIPTION:<p>Apresentação de encerramento do semestre de alunos da Esc
 ola de Música\, disciplina "Música Infantil- Produção Cultural"</p>
LAST-MODIFIED;VALUE=DATE-TIME:20220714T193412Z
URL:http://150.164.76.86:8080/cac/agenda/10148300616601721141
END:VEVENT
BEGIN:VTIMEZONE
TZID:America/Sao_Paulo
X-LIC-LOCATION:America/Sao_Paulo
BEGIN:STANDARD
DTSTART;VALUE=DATE-TIME:20220219T230000
TZNAME:BRT
TZOFFSETFROM:-0200
TZOFFSETTO:-0300
END:STANDARD
END:VTIMEZONE
END:VCALENDAR
