BEGIN:VCALENDAR
VERSION:2.0
PRODID:-//Plone.org//NONSGML plone.app.event//EN
X-WR-TIMEZONE:America/Sao_Paulo
BEGIN:VEVENT
SUMMARY:II Colóquio Internacional de Psicanálise e Psicopatologia Lacani
 anas: a biopolítica\, sonhos e despertar em [ Auditorio Nobre do CAD 1 Au
 ditorio A104 do Cad 2]
DTSTART;TZID=America/Sao_Paulo;VALUE=DATE-TIME:20200820T080000
DTEND;TZID=America/Sao_Paulo;VALUE=DATE-TIME:20200821T190000
DTSTAMP;VALUE=DATE-TIME:20260424T195658Z
UID:246a7946ae744ffca2e87e25d658b691@150.164.76.86:8080
CREATED;VALUE=DATE-TIME:20200127T152539Z
DESCRIPTION:<p>Equipamentos: Datashow\, microfones de mesa e de sala\, pul
 pito para palestrante disponibilização de internet toalha de mesa Progra
 mação: II Colóquio Internacional de Psicanálise e Psicopatologia Lacan
 ianas: a biopolítica\, sonhos e despertar O evento contara com dois convi
 dados internacionais\, professores doutores da UNIVERSITE PARIS 8: Dr. Fab
 ian Fajnwaks e a Dra. Carolina Koretzky. Cada um deles proferira uma confe
 rencia\, cujos temas serão "A biopolítica e a farmacopornografia" (Prof.
  Dr. Fabian Fajnwaks) e *Sonho e despertar*. Faremos entao uma mesa redond
 a\, da qual participaração os dois convidados e alguns de nos\, professo
 res da pos-garduação em psicologia\, com o tema geral do Congresso: *A b
 iopolitica\; sonho e despertar*. No manha de sexta feira funcionaremos com
  mesas simultaneas\, nas quais os alunos de pos-graduação dos programas 
 de pós-graduação envolvidos na organização do evento (Pós- Psicologi
 a UFMG/ Pos-Psicologia UFF/ Pós-Psicologia UFRJ\, Pós-Psicologia PUC-MG\
 , e alguns outros\, estarão apresentando suas pesquisas de pós-graduaç
 ão\, em curso ou recém-concluidas. Nos outros horarios\, teremos mesas p
 lenarias que tratarao de temas associados ao tema geral \, contando com ex
 posições dos nossos pesqusiadores\, nossas e dos professores convidados 
 de outros programas.</p>
LAST-MODIFIED;VALUE=DATE-TIME:20200228T131932Z
URL:http://150.164.76.86:8080/cac/agenda/10135937683339393809
END:VEVENT
BEGIN:VTIMEZONE
TZID:America/Sao_Paulo
X-LIC-LOCATION:America/Sao_Paulo
BEGIN:STANDARD
DTSTART;VALUE=DATE-TIME:20200215T230000
TZNAME:BRT
TZOFFSETFROM:-0200
TZOFFSETTO:-0300
END:STANDARD
END:VTIMEZONE
END:VCALENDAR
