BEGIN:VCALENDAR
VERSION:2.0
PRODID:-//Plone.org//NONSGML plone.app.event//EN
X-WR-TIMEZONE:America/Sao_Paulo
BEGIN:VEVENT
SUMMARY:PET ADM APRESENTA: EXIBIÇÃO DOC INSTITUTO GUAICUY em [ Auditóri
 o B106 do CAD3]
DTSTART;TZID=America/Sao_Paulo;VALUE=DATE-TIME:20241126T130000
DTEND;TZID=America/Sao_Paulo;VALUE=DATE-TIME:20241126T181000
DTSTAMP;VALUE=DATE-TIME:20260419T175715Z
UID:4791948b697048dbbd69ee8396cc1ccd@150.164.76.86:8080
CREATED;VALUE=DATE-TIME:20241029T161016Z
DESCRIPTION:SOBRE O EVENTO\nO PET ADM/UFMG está organizando um evento tem
 ático para ocorrer em novembro\, mês em que completaremos nove anos do d
 esastre crime ocorrido em Bento Rodrigues. A proposta é discutir a relaç
 ão entre gestão\, desastres\, crimes e sociedade.\nPROGRAMAÇÃO\n28/11/
 2024: Palestra/Debate com os doutores Jussara Pereira e Valderí Alcântar
 a a fim de analisar e debater como os profissionais de administração pod
 em mostrar liderança para a responsabilidade na administração pós-desa
 stres. Os ouvintes/participantes serão convidados a ir além dos debates 
 mais tradicionais\, (a) destacando o como contexto político molda e restr
 inge decisões de negócios responsáveis e (b) enfatizando como as polít
 icas públicas podem usar os sistemas de gestão e governança para permit
 ir uma conduta responsável.  \n26/11/2024: apresentaremos o documentário
  "Quanto vale o que não tem preço?"\, produzido pelo Instituto Guaicuy\,
  e dialogaremos sobre identidade\, memória e ressignificação dos sujeit
 os atingidos - direta e indiretamente - pela mineração predatória no qu
 adrilátero ferrífero. A exibição contará com a diretora técnica do I
 nstituto Guaicuy e com a equipe de gestão de comunicação e ATI. Demais 
 informações nas páginas seguintes enviadas pelo Guaicuy.\nPÚBLICO ALVO
 \nDiscentes dos cursos voltados não só para a gestão\, mas que versam s
 obre memória\, identidade e história.\nAdministração\; Engenharia Ambi
 ental\; Engenharia Metalúrgica\; Engenharia de Minas\; Engenharia de Prod
 ução\; Ciências Sociais\; Ciências Socioambientais\; Comunicação Soc
 ial\; Gestão Pública.\nEXPECTATIVA DE COMPARECIMENTO\nA expectativa é d
 e lotação\, entre membros organizadores e participantes\, é de cerca de
  90 pessoas.
LAST-MODIFIED;VALUE=DATE-TIME:20241121T194146Z
URL:http://150.164.76.86:8080/cac/agenda/10123138761345857285
END:VEVENT
BEGIN:VTIMEZONE
TZID:America/Sao_Paulo
X-LIC-LOCATION:America/Sao_Paulo
BEGIN:DAYLIGHT
DTSTART;VALUE=DATE-TIME:20241020T010000
TZNAME:BRST
TZOFFSETFROM:-0300
TZOFFSETTO:-0200
END:DAYLIGHT
END:VTIMEZONE
END:VCALENDAR
