BEGIN:VCALENDAR
VERSION:2.0
PRODID:-//Plone.org//NONSGML plone.app.event//EN
X-WR-TIMEZONE:America/Sao_Paulo
BEGIN:VEVENT
SUMMARY:ABERTURA DA X SEMANA DE SAÚDE MENTAL E INCLUSÃO SOCIAL DA UFMG e
 m [ Outros espacos]
DTSTART;TZID=America/Sao_Paulo;VALUE=DATE-TIME:20220516T100000
DTEND;TZID=America/Sao_Paulo;VALUE=DATE-TIME:20220516T130000
DTSTAMP;VALUE=DATE-TIME:20260422T081436Z
UID:ab3e953dc7a44f86aad40b33b2d27d06@150.164.76.86:8080
CREATED;VALUE=DATE-TIME:20220331T130828Z
DESCRIPTION:A X Semana de Saúde Mental e Inclusão Social da UFMG acontec
 erá dos dias 16 a 20 de maio. A programação é uma construção coletiv
 a e acontecerá a partir da submissão \nde atividades pela comunidade aca
 dêmica e sociedade. Cada proponente se responsabilizará pela organizaç
 ão e realização de sua atividade.\n\nA Conferência de abertura da X Se
 mana de Saúde Mental acontecerá dia 16 maio de 2022 às 10h e gostaríam
 os de solicitar a colaboração da CAC para que a atividade seja também\n
 transmitida online. Dessa forma\, estamos solicitando a reserva do auditó
 rio da reitoria para que a atividade aconteça presencialmente e também s
 eja transmitida no formato online.\n\nA abertura do evento contará com um
 a mesa de abertura com a presença da Magnífica Reitora Sandra Goulart Al
 meida\, da Pró-Reitora de Extensão Claudia Mayorga e da \nDiretora da Un
 iversidade dos Direitos Humanos Maria Aparecida Moura. Após a mesa de abe
 rtura acontecerá a palestra com o/a palestrante convidado (nomes ainda a 
 confirmar\,\npodendo ser até dois convidados)\n\nA previsão é de que a 
 atividade tenha duração de três horas.
LAST-MODIFIED;VALUE=DATE-TIME:20220404T151714Z
URL:http://150.164.76.86:8080/cac/agenda/10110823481704102089
END:VEVENT
BEGIN:VTIMEZONE
TZID:America/Sao_Paulo
X-LIC-LOCATION:America/Sao_Paulo
BEGIN:STANDARD
DTSTART;VALUE=DATE-TIME:20220219T230000
TZNAME:BRT
TZOFFSETFROM:-0200
TZOFFSETTO:-0300
END:STANDARD
END:VTIMEZONE
END:VCALENDAR
