BEGIN:VCALENDAR
VERSION:2.0
PRODID:-//Plone.org//NONSGML plone.app.event//EN
X-WR-TIMEZONE:America/Sao_Paulo
BEGIN:VEVENT
SUMMARY:Gestão da fadiga humana sob uma óptica integrada em [ Auditorio 
 Nobre do CAD 1]
DTSTART;TZID=America/Sao_Paulo;VALUE=DATE-TIME:20221215T080000
DTEND;TZID=America/Sao_Paulo;VALUE=DATE-TIME:20221216T190000
DTSTAMP;VALUE=DATE-TIME:20260421T205044Z
UID:8aefdc08e65c461d93d48743198736db@150.164.76.86:8080
CREATED;VALUE=DATE-TIME:20220516T152755Z
DESCRIPTION:<p>Capacitaremos o público-alvo a identificarem e prevenir a 
 fadiga humana no ambiente de trabalho.</p>
LAST-MODIFIED;VALUE=DATE-TIME:20221213T123954Z
URL:http://150.164.76.86:8080/cac/agenda/10099584360790326828
END:VEVENT
BEGIN:VTIMEZONE
TZID:America/Sao_Paulo
X-LIC-LOCATION:America/Sao_Paulo
BEGIN:DAYLIGHT
DTSTART;VALUE=DATE-TIME:20221016T010000
TZNAME:BRST
TZOFFSETFROM:-0300
TZOFFSETTO:-0200
END:DAYLIGHT
END:VTIMEZONE
END:VCALENDAR
