BEGIN:VCALENDAR
VERSION:2.0
PRODID:-//Plone.org//NONSGML plone.app.event//EN
X-WR-TIMEZONE:America/Sao_Paulo
BEGIN:VEVENT
SUMMARY:41º Mercado das Pulgas em [ Entorno da Praca de Servicos]
DTSTART;TZID=America/Sao_Paulo;VALUE=DATE-TIME:20230529T090000
DTEND;TZID=America/Sao_Paulo;VALUE=DATE-TIME:20230602T160000
DTSTAMP;VALUE=DATE-TIME:20260421T102946Z
UID:267adf6377c84be2bc2dbda675c48452@150.164.76.86:8080
CREATED;VALUE=DATE-TIME:20221110T172612Z
DESCRIPTION:70 PAINÉIS
LAST-MODIFIED;VALUE=DATE-TIME:20221121T212025Z
URL:http://150.164.76.86:8080/cac/agenda/10098215724011537955
END:VEVENT
BEGIN:VTIMEZONE
TZID:America/Sao_Paulo
X-LIC-LOCATION:America/Sao_Paulo
BEGIN:STANDARD
DTSTART;VALUE=DATE-TIME:20230225T230000
TZNAME:BRT
TZOFFSETFROM:-0200
TZOFFSETTO:-0300
END:STANDARD
END:VTIMEZONE
END:VCALENDAR
