BEGIN:VCALENDAR
VERSION:2.0
PRODID:-//Plone.org//NONSGML plone.app.event//EN
X-WR-TIMEZONE:America/Sao_Paulo
BEGIN:VEVENT
SUMMARY:Concurso UFMG Edital nº 1014/2021 em [ Auditorio Nobre do CAD 1 A
 uditorio 1A do CAD 1 Auditorio 2A do CAD 1 Auditorio A102 do Cad 2 Auditor
 io A104 do Cad 2 Auditório B101/102 do CAD 3 Auditório B301 do CAD 3 Aud
 itório B302 do CAD 3]
DTSTART;TZID=America/Sao_Paulo;VALUE=DATE-TIME:20211113T080000
DTEND;TZID=America/Sao_Paulo;VALUE=DATE-TIME:20211114T180000
DTSTAMP;VALUE=DATE-TIME:20260424T003503Z
UID:9242ad000b734cd799634174052223aa@150.164.76.86:8080
CREATED;VALUE=DATE-TIME:20211109T151504Z
DESCRIPTION:<p>Utilização dos CADs 1\, 2 e 3\, com total isolamento das 
 salas e auditórios</p>
LAST-MODIFIED;VALUE=DATE-TIME:20230111T201112Z
URL:http://150.164.76.86:8080/cac/agenda/10092591823914816501
END:VEVENT
BEGIN:VTIMEZONE
TZID:America/Sao_Paulo
X-LIC-LOCATION:America/Sao_Paulo
BEGIN:DAYLIGHT
DTSTART;VALUE=DATE-TIME:20211017T010000
TZNAME:BRST
TZOFFSETFROM:-0300
TZOFFSETTO:-0200
END:DAYLIGHT
END:VTIMEZONE
END:VCALENDAR
