BEGIN:VCALENDAR
VERSION:2.0
PRODID:-//Plone.org//NONSGML plone.app.event//EN
X-WR-TIMEZONE:America/Sao_Paulo
BEGIN:VEVENT
SUMMARY:95 Anos da UFMG  Medalha Mendes Pimentel Cerimônia Oficial em [ A
 uditorio da Reitoria]
DTSTART;TZID=America/Sao_Paulo;VALUE=DATE-TIME:20220905T190000
DTEND;TZID=America/Sao_Paulo;VALUE=DATE-TIME:20220905T210000
DTSTAMP;VALUE=DATE-TIME:20260421T235019Z
UID:60453abb22f7415d9ca998f98dd5ed39@150.164.76.86:8080
CREATED;VALUE=DATE-TIME:20220505T180119Z
DESCRIPTION:<p>Ceriôminia oficial de comemoração dos 95 anos da UFMG</p
 >
LAST-MODIFIED;VALUE=DATE-TIME:20220829T200906Z
URL:http://150.164.76.86:8080/cac/agenda/10089676302797326043
END:VEVENT
BEGIN:VTIMEZONE
TZID:America/Sao_Paulo
X-LIC-LOCATION:America/Sao_Paulo
BEGIN:STANDARD
DTSTART;VALUE=DATE-TIME:20220219T230000
TZNAME:BRT
TZOFFSETFROM:-0200
TZOFFSETTO:-0300
END:STANDARD
END:VTIMEZONE
END:VCALENDAR
