BEGIN:VCALENDAR
VERSION:2.0
PRODID:-//Plone.org//NONSGML plone.app.event//EN
X-WR-TIMEZONE:America/Sao_Paulo
BEGIN:VEVENT
SUMMARY:Tópicos em Sociologia em [ Auditorio A104 do Cad 2]
DTSTART;TZID=America/Sao_Paulo;VALUE=DATE-TIME:20241004T130000
DTEND;TZID=America/Sao_Paulo;VALUE=DATE-TIME:20241004T180000
DTSTAMP;VALUE=DATE-TIME:20260419T192113Z
UID:b6335ac9784345c298a118ea586699a7@150.164.76.86:8080
CREATED;VALUE=DATE-TIME:20240306T121619Z
DESCRIPTION:Aula ampliada da disciplina Tópicos em Sociologia. Atividade 
 com a presença do servidor Fabricio Riff para ajudar na TI.
LAST-MODIFIED;VALUE=DATE-TIME:20240307T163956Z
URL:http://150.164.76.86:8080/cac/agenda/1008344421891100179
END:VEVENT
BEGIN:VTIMEZONE
TZID:America/Sao_Paulo
X-LIC-LOCATION:America/Sao_Paulo
BEGIN:STANDARD
DTSTART;VALUE=DATE-TIME:20240217T230000
TZNAME:BRT
TZOFFSETFROM:-0200
TZOFFSETTO:-0300
END:STANDARD
END:VTIMEZONE
END:VCALENDAR
