BEGIN:VCALENDAR
VERSION:2.0
PRODID:-//Plone.org//NONSGML plone.app.event//EN
X-WR-TIMEZONE:America/Sao_Paulo
BEGIN:VEVENT
SUMMARY:Visita técnica TV Record em [ Auditorio da Reitoria]
DTSTART;TZID=America/Sao_Paulo;VALUE=DATE-TIME:20240731T070000
DTEND;TZID=America/Sao_Paulo;VALUE=DATE-TIME:20240731T210000
DTSTAMP;VALUE=DATE-TIME:20260419T234754Z
UID:a0e75ec611b4464e8b128b330a9704ef@150.164.76.86:8080
CREATED;VALUE=DATE-TIME:20240711T162042Z
DESCRIPTION:<p>visita técnica</p>
LAST-MODIFIED;VALUE=DATE-TIME:20240711T162112Z
URL:http://150.164.76.86:8080/cac/agenda/10065451816301434047
END:VEVENT
BEGIN:VTIMEZONE
TZID:America/Sao_Paulo
X-LIC-LOCATION:America/Sao_Paulo
BEGIN:STANDARD
DTSTART;VALUE=DATE-TIME:20240217T230000
TZNAME:BRT
TZOFFSETFROM:-0200
TZOFFSETTO:-0300
END:STANDARD
END:VTIMEZONE
END:VCALENDAR
