BEGIN:VCALENDAR
VERSION:2.0
PRODID:-//Plone.org//NONSGML plone.app.event//EN
X-WR-TIMEZONE:America/Sao_Paulo
BEGIN:VEVENT
SUMMARY:Reunião PROGRAD em [ Outros espacos]
DTSTART;TZID=America/Sao_Paulo;VALUE=DATE-TIME:20221111T140000
DTEND;TZID=America/Sao_Paulo;VALUE=DATE-TIME:20221111T160000
DTSTAMP;VALUE=DATE-TIME:20260421T221746Z
UID:c47d1c42758f419bbbe080f4b59219fc@150.164.76.86:8080
CREATED;VALUE=DATE-TIME:20221104T192534Z
DESCRIPTION:<p>PROGRAD</p>
LAST-MODIFIED;VALUE=DATE-TIME:20221104T193113Z
URL:http://150.164.76.86:8080/cac/agenda/10061302768510260731
END:VEVENT
BEGIN:VTIMEZONE
TZID:America/Sao_Paulo
X-LIC-LOCATION:America/Sao_Paulo
BEGIN:DAYLIGHT
DTSTART;VALUE=DATE-TIME:20221016T010000
TZNAME:BRST
TZOFFSETFROM:-0300
TZOFFSETTO:-0200
END:DAYLIGHT
END:VTIMEZONE
END:VCALENDAR
