BEGIN:VCALENDAR
VERSION:2.0
PRODID:-//Plone.org//NONSGML plone.app.event//EN
X-WR-TIMEZONE:America/Sao_Paulo
BEGIN:VEVENT
SUMMARY:Primeiro Congresso da Reabilitação\, monitoramento e conservaç
 ão de fauna silvestre em [ Auditorio Nobre do CAD 1]
DTSTART;TZID=America/Sao_Paulo;VALUE=DATE-TIME:20241118T070000
DTEND;TZID=America/Sao_Paulo;VALUE=DATE-TIME:20241119T213000
DTSTAMP;VALUE=DATE-TIME:20260419T175358Z
UID:56b0fe1348d5490f93b557134c47990c@150.164.76.86:8080
CREATED;VALUE=DATE-TIME:20240429T212412Z
DESCRIPTION:<p>O I Congresso &amp\; IV Workshop de Reabilitação\, Moni
 toramento e Conservação da Fauna Silvestre tem como objetivo reunir di
 ferentes instituições\, pesquisadores\, servidores de órgãos ambie
 ntais e ONGs conservacionistas para debater assuntos e relatar experiênc
 ias relevantes ao tema\, buscando se consolidar como um importante fórum
  nacional sobre a conservação da fauna silvestre. O evento necessitar
 á de aparelho datashow nos momentos das palestras. O evento contará com 
 técnico de áudio e vídeo\, sendo um servidor do ICB nos dias 18 e 19/11
 /2024\, e um técnico contratado externamente (pela organização do event
 o) no dia 20/11/2024. Segue programação resumida do evento: 18/11/2024 0
 7:00 - 21:30: Palestras no CAD 1 (Auditório Nobre) 19/11/2024 07:00 - 20:
 15: Palestras no CAD 1 (Auditório Nobre) 13:00 - 17:00: Apresentação de
  trabalhos em forma de banner no CAD 1 (Saguão) 19:00 - 21:30: Apresenta
 ção de trabalhos em forma de banner no CAD 1 (Saguão) 20/11/2024 07:00 
 - 21:00: Palestras simultâneas em 04 auditórios do CAD 3 separados</p>
LAST-MODIFIED;VALUE=DATE-TIME:20241021T211831Z
URL:http://150.164.76.86:8080/cac/agenda/10055521536999973169
END:VEVENT
BEGIN:VTIMEZONE
TZID:America/Sao_Paulo
X-LIC-LOCATION:America/Sao_Paulo
BEGIN:DAYLIGHT
DTSTART;VALUE=DATE-TIME:20241020T010000
TZNAME:BRST
TZOFFSETFROM:-0300
TZOFFSETTO:-0200
END:DAYLIGHT
END:VTIMEZONE
END:VCALENDAR
