BEGIN:VCALENDAR
VERSION:2.0
PRODID:-//Plone.org//NONSGML plone.app.event//EN
X-WR-TIMEZONE:America/Sao_Paulo
BEGIN:VEVENT
SUMMARY:Mesa Política - Aquilombar para Permanecer/Movimento Negro em Lut
 a em [ Arena da praça de serviços]
DTSTART;TZID=America/Sao_Paulo;VALUE=DATE-TIME:20231121T170000
DTEND;TZID=America/Sao_Paulo;VALUE=DATE-TIME:20231121T200000
DTSTAMP;VALUE=DATE-TIME:20260420T130525Z
UID:afe0c5f3515642fa9b7741761f57e95a@150.164.76.86:8080
CREATED;VALUE=DATE-TIME:20231024T141153Z
DESCRIPTION:Mesa Política promovida pela Diretoria de Negritude/DCE UFMG 
 como parte da programação da semana do Novembro Negro com temática volt
 ada a discutir as políticas de permanência para estudantes negres de pel
 e preta ou parda. O evento contará com uma mesa composta principalmente p
 or figuras políticas a serem confirmadas em breve e estima a presença de
  diversos estudantes que passarem pela praça de serviços.
LAST-MODIFIED;VALUE=DATE-TIME:20231108T124925Z
URL:http://150.164.76.86:8080/cac/agenda/10038556719537734995
END:VEVENT
BEGIN:VTIMEZONE
TZID:America/Sao_Paulo
X-LIC-LOCATION:America/Sao_Paulo
BEGIN:DAYLIGHT
DTSTART;VALUE=DATE-TIME:20231015T010000
TZNAME:BRST
TZOFFSETFROM:-0300
TZOFFSETTO:-0200
END:DAYLIGHT
END:VTIMEZONE
END:VCALENDAR
