BEGIN:VCALENDAR
VERSION:2.0
PRODID:-//Plone.org//NONSGML plone.app.event//EN
X-WR-TIMEZONE:America/Sao_Paulo
BEGIN:VEVENT
SUMMARY:Educação Permanente do Hospital Risoleta Tolentino Neves em [ Au
 ditorio A104 do Cad 2]
DTSTART;TZID=America/Sao_Paulo;VALUE=DATE-TIME:20250211T090000
DTEND;TZID=America/Sao_Paulo;VALUE=DATE-TIME:20250211T120000
DTSTAMP;VALUE=DATE-TIME:20260419T135030Z
UID:0240de1795f64c20ba6b6b49feeca181@150.164.76.86:8080
CREATED;VALUE=DATE-TIME:20250110T141113Z
DESCRIPTION:<p><span>A atividade será a abertura de uma ação proposta p
 ela equipe de Educação que contará com mais ou menos 70 participantes</
 span></p>
LAST-MODIFIED;VALUE=DATE-TIME:20250115T142210Z
URL:http://150.164.76.86:8080/cac/agenda/1003589557391201597
END:VEVENT
BEGIN:VTIMEZONE
TZID:America/Sao_Paulo
X-LIC-LOCATION:America/Sao_Paulo
BEGIN:DAYLIGHT
DTSTART;VALUE=DATE-TIME:20241020T010000
TZNAME:BRST
TZOFFSETFROM:-0300
TZOFFSETTO:-0200
END:DAYLIGHT
END:VTIMEZONE
END:VCALENDAR
