BEGIN:VCALENDAR
VERSION:2.0
PRODID:-//Plone.org//NONSGML plone.app.event//EN
X-WR-TIMEZONE:America/Sao_Paulo
BEGIN:VEVENT
SUMMARY:FEIRA DA UFMG - Agroecologia e Economia Popular Solidária em [ En
 torno da Praca de Servicos]
DTSTART;TZID=America/Sao_Paulo;VALUE=DATE-TIME:20241211T080000
DTEND;TZID=America/Sao_Paulo;VALUE=DATE-TIME:20241211T180000
DTSTAMP;VALUE=DATE-TIME:20260419T163326Z
UID:51b566827a6a433587b0671dd4357f75@150.164.76.86:8080
CREATED;VALUE=DATE-TIME:20240401T134502Z
DESCRIPTION:Não usaremos nenhum equipamento ou serviço adicional.\nA pro
 gramação ainda está sendo elaborada.
LAST-MODIFIED;VALUE=DATE-TIME:20240404T202921Z
URL:http://150.164.76.86:8080/cac/agenda/10028649566100643159
END:VEVENT
BEGIN:VTIMEZONE
TZID:America/Sao_Paulo
X-LIC-LOCATION:America/Sao_Paulo
BEGIN:DAYLIGHT
DTSTART;VALUE=DATE-TIME:20241020T010000
TZNAME:BRST
TZOFFSETFROM:-0300
TZOFFSETTO:-0200
END:DAYLIGHT
END:VTIMEZONE
END:VCALENDAR
