BEGIN:VCALENDAR
VERSION:2.0
PRODID:-//Plone.org//NONSGML plone.app.event//EN
X-WR-TIMEZONE:America/Sao_Paulo
BEGIN:VEVENT
SUMMARY:CILASCI 6 - Congresso Íbero-Latino-Americano em Segurança Contra
  Incêndios em [ Auditorio Nobre do CAD 1 Outros espacos]
DTSTART;TZID=America/Sao_Paulo;VALUE=DATE-TIME:20220727T070000
DTEND;TZID=America/Sao_Paulo;VALUE=DATE-TIME:20220729T190000
DTSTAMP;VALUE=DATE-TIME:20260422T044505Z
UID:5d786372529d429f88150d9a64c26405@150.164.76.86:8080
CREATED;VALUE=DATE-TIME:20220420T145115Z
DESCRIPTION:O CILASCI visa fomentar a cultura da segurança contra incênd
 io promovendo a discussão qualificada para superar os seus desafios e a b
 usca da cooperação entre diferentes agentes (públicos e privados)\, que
  atuam na perspectiva de um processo de produção de ambientes construíd
 os mais seguros e sustentáveis. A proposta do CILASCI é integrar e disci
 plinar os esforços daqueles responsáveis pela produção técnica e cien
 tífica na área de Segurança Contra Incêndio (SCI)\, e interagir com os
  responsáveis pela implantação de medidas de prevenção\, proteção e
  combate a incêndio. Com áreas temáticas abrangentes o CILASCI aborda a
  SCI em praticamente todas as atividades humanas\, da habitação à indú
 stria\, nos empreendimentos urbanos e rurais\, trazendo aos seus participa
 ntes as inovações tecnológicas. Os profissionais das áreas associadas 
 a SCI devem ter o conhecimento básico sobre prevenção de incêndios na 
 hora de projetar\, construir\, instalar\, operar e restaurar os mais varia
 dos empreendimentos. Nesse contexto\, o CILASCI se propõe a oferecer uma 
 especial oportunidade para a discussão da SCI\, com enfoque nestas práti
 cas mais eficientes e sustentáveis\, fortalecendo a relação entre unive
 rsidade e sociedade\, a fim de preparar melhor os futuros profissionais e 
 de orientar o mercado.
LAST-MODIFIED;VALUE=DATE-TIME:20220425T191110Z
URL:http://150.164.76.86:8080/cac/agenda/10026490521729185242
END:VEVENT
BEGIN:VTIMEZONE
TZID:America/Sao_Paulo
X-LIC-LOCATION:America/Sao_Paulo
BEGIN:STANDARD
DTSTART;VALUE=DATE-TIME:20220219T230000
TZNAME:BRT
TZOFFSETFROM:-0200
TZOFFSETTO:-0300
END:STANDARD
END:VTIMEZONE
END:VCALENDAR
