BEGIN:VCALENDAR
VERSION:2.0
PRODID:-//Plone.org//NONSGML plone.app.event//EN
X-WR-TIMEZONE:America/Sao_Paulo
BEGIN:VEVENT
SUMMARY:Mercado em Conexão em [ Auditório B106 do CAD 3]
DTSTART;TZID=America/Sao_Paulo;VALUE=DATE-TIME:20260422T000000
DTEND;TZID=America/Sao_Paulo;VALUE=DATE-TIME:20260424T235900
DTSTAMP;VALUE=DATE-TIME:20260422T192222Z
UID:b0154f550bb34e87a73ba568a8056015@150.164.76.86:8080
CREATED;VALUE=DATE-TIME:20260310T024757Z
DESCRIPTION:Durante os dias do Mercado em Conexão\, algumas das empresas 
 participantes irão promover atividades voltadas aos estudantes\, como pal
 estras\, hackathons e outras iniciativas de interação e aprendizado\, qu
 e acontecerão antes\, durante e também após a realização da feira.\n\
 nPara que essas atividades ocorram da melhor forma possível\, precisaremo
 s de um ambiente amplo\, com boa infraestrutura e uma quantidade adequada 
 de tomadas\, garantindo conforto\, organização e suporte para todos os e
 studantes que participarão dessas dinâmicas. Além disso\, seria importa
 nte contar com equipamentos como projetor\, sistema de som e microfones.\n
 \nTambém pode ser necessário o apoio de alguns serviços\, como suporte 
 técnico para os equipamentos\, organização do espaço e auxílio na mon
 tagem e operação durante as atividades.
LAST-MODIFIED;VALUE=DATE-TIME:20260310T125224Z
URL:http://150.164.76.86:8080/cac/agenda/preagenda/9693191277299646204
END:VEVENT
BEGIN:VEVENT
SUMMARY:Mercado em Conexão 2026 em [ Auditório B107 do CAD 3]
DTSTART;TZID=America/Sao_Paulo;VALUE=DATE-TIME:20260422T070000
DTEND;TZID=America/Sao_Paulo;VALUE=DATE-TIME:20260422T203000
DTSTAMP;VALUE=DATE-TIME:20260422T192222Z
UID:efe62b59f64244a6a9cce1740965603a@150.164.76.86:8080
CREATED;VALUE=DATE-TIME:20260324T000449Z
DESCRIPTION:<p>Após a feira Mercado em Conexão\, que é aberta a toda a 
 comunidade da UFMG\, teremos alguns eventos propostos pelas empresas parti
 cipantes. Esses eventos exigem espaços amplos\, com capacidade para acomo
 dar entre 50 e 100 pessoas. Faremos a solicitação aos técnicos do audio
 visual da Engenharia para nos auxiliar. Realizamos duas solicitações ant
 eriormente\; no entanto\, recebemos apenas o segundo e-mail\, que informav
 a o indeferimento\, sem o envio do primeiro. Diante disso\, enviei um e-ma
 il sobre o assunto.</p>
LAST-MODIFIED;VALUE=DATE-TIME:20260413T133233Z
URL:http://150.164.76.86:8080/cac/agenda/985864110118106656
END:VEVENT
BEGIN:VEVENT
SUMMARY:Feira da UFMG - Aqui tem Agroecologia e Economia Popular Solidári
 a em [ Entorno da Praca de Servicos]
DTSTART;TZID=America/Sao_Paulo;VALUE=DATE-TIME:20260422T080000
DTEND;TZID=America/Sao_Paulo;VALUE=DATE-TIME:20260422T170000
DTSTAMP;VALUE=DATE-TIME:20260422T192222Z
UID:8094742bf35243ad9c2da9366412e089@150.164.76.86:8080
CREATED;VALUE=DATE-TIME:20251210T134431Z
DESCRIPTION:A programação do evento ainda não foi definida.
LAST-MODIFIED;VALUE=DATE-TIME:20251211T182743Z
URL:http://150.164.76.86:8080/cac/agenda/11467493690030504875
END:VEVENT
BEGIN:VEVENT
SUMMARY:O Sabor que Ultrapassa Montanhas e Mares A Rota do Chá e a Rota d
 o Café Instituto Confúcio da UFMG em [ Outros espacos Auditorio da Reito
 ria]
DTSTART;TZID=America/Sao_Paulo;VALUE=DATE-TIME:20260422T080000
DTEND;TZID=America/Sao_Paulo;VALUE=DATE-TIME:20260422T210000
DTSTAMP;VALUE=DATE-TIME:20260422T192222Z
UID:c1049e950eb74186930241311309459b@150.164.76.86:8080
CREATED;VALUE=DATE-TIME:20260209T183716Z
DESCRIPTION:<p>O Instituto Confúcio da UFMG (localizado na Faculdade de L
 etras)\, em parceria com a Escola de Arquitetura da UFMG e com a Huazhong 
 University of Science and Technology (HUST)\, pretende realizar a exposiç
 ão “O Sabor que Ultrapassa Montanhas e Mares – A Rota do Chá e a Rot
 a do Café”\, que almeja explorar os dois símbolos culturais (o chá re
 presentando a China\, e o café\, o Brasil) como veículos de diálogo int
 ercivilizacional\, expondo estudos comparativos sobre patrimônios arquite
 tônicos e realizando uma revisão histórica das rotas comerciais. A most
 ra possuirá 5 áreas temáticas (que contarão com painéis e maquetes) e
  1 plataforma digital interativa (“Metaverso da Rota da Milha do Chá”
 )\, e será exibida em mais de 10 localidades brasileiras\, sendo a UFMG a
  instituição escolhida para o lançar o evento.</p>
LAST-MODIFIED;VALUE=DATE-TIME:20260331T191656Z
URL:http://150.164.76.86:8080/cac/agenda/11635401949216183584
END:VEVENT
BEGIN:VEVENT
SUMMARY:ASSEMBLEIA SINDICAL GERAL DE GREVE em [ Auditorio A102 do Cad 2]
DTSTART;TZID=America/Sao_Paulo;VALUE=DATE-TIME:20260422T080000
DTEND;TZID=America/Sao_Paulo;VALUE=DATE-TIME:20260422T170000
DTSTAMP;VALUE=DATE-TIME:20260422T192222Z
UID:53b52b7240604d7db7f4c38be3628d10@150.164.76.86:8080
CREATED;VALUE=DATE-TIME:20260323T132034Z
DESCRIPTION:ATIVIDADE DE GREVE
LAST-MODIFIED;VALUE=DATE-TIME:20260422T144512Z
URL:http://150.164.76.86:8080/cac/agenda/17012787930905648205
END:VEVENT
BEGIN:VEVENT
SUMMARY:aula Suicídio:uma leitura fenomenológica em [ Auditorio A104 do 
 Cad 2]
DTSTART;TZID=America/Sao_Paulo;VALUE=DATE-TIME:20260422T130000
DTEND;TZID=America/Sao_Paulo;VALUE=DATE-TIME:20260422T170000
DTSTAMP;VALUE=DATE-TIME:20260422T192222Z
UID:682a2673eb29425b8b925323ece331b0@150.164.76.86:8080
CREATED;VALUE=DATE-TIME:20260415T104145Z
DESCRIPTION:Aula Suicídio: uma leitura fenomenológica
LAST-MODIFIED;VALUE=DATE-TIME:20260417T162533Z
URL:http://150.164.76.86:8080/cac/agenda/12735513451869052648
END:VEVENT
BEGIN:VEVENT
SUMMARY:Picaderró em [ Arena da praça de serviços]
DTSTART;TZID=America/Sao_Paulo;VALUE=DATE-TIME:20260422T170000
DTEND;TZID=America/Sao_Paulo;VALUE=DATE-TIME:20260422T190000
DTSTAMP;VALUE=DATE-TIME:20260422T192222Z
UID:e77bb018b1464e9c9d79e8864d02de1f@150.164.76.86:8080
CREATED;VALUE=DATE-TIME:20260225T175706Z
DESCRIPTION:forró no campus
LAST-MODIFIED;VALUE=DATE-TIME:20260304T173747Z
URL:http://150.164.76.86:8080/cac/agenda/preagenda/5679737395485605182
END:VEVENT
BEGIN:VEVENT
SUMMARY:Picaderró em [ Arena da praça de serviços]
DTSTART;TZID=America/Sao_Paulo;VALUE=DATE-TIME:20260422T173000
DTEND;TZID=America/Sao_Paulo;VALUE=DATE-TIME:20260422T190000
DTSTAMP;VALUE=DATE-TIME:20260422T192222Z
UID:c5214bc79487424f912f1b1f26036c7a@150.164.76.86:8080
CREATED;VALUE=DATE-TIME:20260312T174118Z
DESCRIPTION:forró aberto ao público
LAST-MODIFIED;VALUE=DATE-TIME:20260312T180342Z
URL:http://150.164.76.86:8080/cac/agenda/9675610132389044666
END:VEVENT
BEGIN:VTIMEZONE
TZID:America/Sao_Paulo
X-LIC-LOCATION:America/Sao_Paulo
BEGIN:STANDARD
DTSTART;VALUE=DATE-TIME:20260221T230000
TZNAME:BRT
TZOFFSETFROM:-0200
TZOFFSETTO:-0300
END:STANDARD
END:VTIMEZONE
END:VCALENDAR
