BEGIN:VCALENDAR
VERSION:2.0
PRODID:-//Plone.org//NONSGML plone.app.event//EN
X-WR-TIMEZONE:America/Sao_Paulo
BEGIN:VEVENT
SUMMARY:Mercado em Conexão em [ Auditório B106 do CAD 3]
DTSTART;TZID=America/Sao_Paulo;VALUE=DATE-TIME:20260422T000000
DTEND;TZID=America/Sao_Paulo;VALUE=DATE-TIME:20260424T235900
DTSTAMP;VALUE=DATE-TIME:20260423T013448Z
UID:b0154f550bb34e87a73ba568a8056015@150.164.76.86:8080
CREATED;VALUE=DATE-TIME:20260310T024757Z
DESCRIPTION:Durante os dias do Mercado em Conexão\, algumas das empresas 
 participantes irão promover atividades voltadas aos estudantes\, como pal
 estras\, hackathons e outras iniciativas de interação e aprendizado\, qu
 e acontecerão antes\, durante e também após a realização da feira.\n\
 nPara que essas atividades ocorram da melhor forma possível\, precisaremo
 s de um ambiente amplo\, com boa infraestrutura e uma quantidade adequada 
 de tomadas\, garantindo conforto\, organização e suporte para todos os e
 studantes que participarão dessas dinâmicas. Além disso\, seria importa
 nte contar com equipamentos como projetor\, sistema de som e microfones.\n
 \nTambém pode ser necessário o apoio de alguns serviços\, como suporte 
 técnico para os equipamentos\, organização do espaço e auxílio na mon
 tagem e operação durante as atividades.
LAST-MODIFIED;VALUE=DATE-TIME:20260310T125224Z
URL:http://150.164.76.86:8080/cac/agenda/preagenda/9693191277299646204
END:VEVENT
BEGIN:VEVENT
SUMMARY:ASSEMBLEIA SINDICAL GERAL DE GREVE em [ Auditorio A104 do Cad 2]
DTSTART;TZID=America/Sao_Paulo;VALUE=DATE-TIME:20260423T080000
DTEND;TZID=America/Sao_Paulo;VALUE=DATE-TIME:20260423T170000
DTSTAMP;VALUE=DATE-TIME:20260423T013448Z
UID:f66a648ff29d41a283f67203797a2425@150.164.76.86:8080
CREATED;VALUE=DATE-TIME:20260323T132216Z
DESCRIPTION:ATIVIDADE DE GREVE
LAST-MODIFIED;VALUE=DATE-TIME:20260422T154014Z
URL:http://150.164.76.86:8080/cac/agenda/8482308953582979782
END:VEVENT
BEGIN:VEVENT
SUMMARY:Evento - Pró-Reitoria de Administração em [ Outros espacos]
DTSTART;TZID=America/Sao_Paulo;VALUE=DATE-TIME:20260423T080000
DTEND;TZID=America/Sao_Paulo;VALUE=DATE-TIME:20260423T180000
DTSTAMP;VALUE=DATE-TIME:20260423T013448Z
UID:e984900ffda644f28fba488a43f9d324@150.164.76.86:8080
CREATED;VALUE=DATE-TIME:20260326T192042Z
DESCRIPTION:Evento destinado à Pró-Reitoria de Administração
LAST-MODIFIED;VALUE=DATE-TIME:20260327T144136Z
URL:http://150.164.76.86:8080/cac/agenda/preagenda/624130649145301514
END:VEVENT
BEGIN:VEVENT
SUMMARY:V  SLIM - Simpósio do Laboratório de Imunofarmacologia em [ Audi
 torio A102 do Cad 2]
DTSTART;TZID=America/Sao_Paulo;VALUE=DATE-TIME:20260423T080000
DTEND;TZID=America/Sao_Paulo;VALUE=DATE-TIME:20260424T210000
DTSTAMP;VALUE=DATE-TIME:20260423T013448Z
UID:0734782fd10446f18b44ab8f5834222d@150.164.76.86:8080
CREATED;VALUE=DATE-TIME:20260128T203029Z
DESCRIPTION:<p>O V Simpósio do Laboratório de Imunofarmacologia será re
 alizado de forma integrada ao Encontro do Instituto Nacional de Ciência e
  Tecnologia em Dengue e Interação Microrganismo-Hospedeiro (INCT-D) e ao
  Encontro de Pesquisadores do Edital Rede FAPEMIG\, configurando-se como u
 m evento científico fechado\, destinado exclusivamente aos pesquisadores 
 integrantes das redes envolvidas e seus respectivos estudantes de graduaç
 ão\, pós-graduação e pós-doutorado. O evento tem como objetivo promov
 er a integração científica e institucional entre os grupos participante
 s\, estimulando a troca de experiências\, a discussão crítica de result
 ados e o planejamento estratégico de ações conjuntas nas áreas de imun
 ofarmacologia\, inflamação\, interação microrganismo-hospedeiro\, arbo
 viroses e desenvolvimento de estratégias terapêuticas inovadoras\, com f
 oco na consolidação e fortalecimento das redes de pesquisa financiadas. 
 O simpósio constitui também um espaço privilegiado para a apresentaçã
 o de resultados científicos\, avaliação do andamento dos projetos\, ide
 ntificação de sinergias entre linhas de pesquisa\, formação de recurso
 s humanos qualificados e definição de perspectivas futuras de colaboraç
 ão\, inovação e translacional idade. Equipamentos Necessários Espaço 
 físico adequado (auditório e salas de apoio)\; Sistema de projeção mul
 timídia (datashow e tela)\; Computador para apresentações\; Sistema de 
 som com microfones\; Acesso à internet (Wi-Fi)\; 40 cavaletes para exposi
 ção de pôsteres científicos\;</p>
LAST-MODIFIED;VALUE=DATE-TIME:20260209T180700Z
URL:http://150.164.76.86:8080/cac/agenda/11295987607232953182
END:VEVENT
BEGIN:VEVENT
SUMMARY:Feira de Artesanato do Vale do Jequitinhonha em [ Arena da praça 
 de serviços Entorno da Praca de Servicos]
DTSTART;TZID=America/Sao_Paulo;VALUE=DATE-TIME:20260423T090000
DTEND;TZID=America/Sao_Paulo;VALUE=DATE-TIME:20260430T180000
DTSTAMP;VALUE=DATE-TIME:20260423T013448Z
UID:7a3b1109c1d343c686923bb7fa29a1df@150.164.76.86:8080
CREATED;VALUE=DATE-TIME:20260115T170804Z
DESCRIPTION:Montagem Feira.
LAST-MODIFIED;VALUE=DATE-TIME:20260116T182533Z
URL:http://150.164.76.86:8080/cac/agenda/18014407992096626512
END:VEVENT
BEGIN:VEVENT
SUMMARY:Exibição de filme em [ Auditorio A102 do Cad 2]
DTSTART;TZID=America/Sao_Paulo;VALUE=DATE-TIME:20260423T130000
DTEND;TZID=America/Sao_Paulo;VALUE=DATE-TIME:20260423T170000
DTSTAMP;VALUE=DATE-TIME:20260423T013448Z
UID:818d31d4add04cef97e96c947db62ccd@150.164.76.86:8080
CREATED;VALUE=DATE-TIME:20260305T214717Z
DESCRIPTION:anualmente\, leciono a disciplina de Psicologia do Trabalho. E
  faço a exibição do filme. Nos últimos anos o filme tem sido exibido n
 o auditório do cad. Só vou utilizar o data-show e o computador\, além d
 e um microfone.
LAST-MODIFIED;VALUE=DATE-TIME:20260309T173636Z
URL:http://150.164.76.86:8080/cac/agenda/15597969729587259127
END:VEVENT
BEGIN:VEVENT
SUMMARY:Reunião do  Conselho de Ensino\, Pesquisa e Extensão (CEPE) em [
  Outros espacos]
DTSTART;TZID=America/Sao_Paulo;VALUE=DATE-TIME:20260423T140000
DTEND;TZID=America/Sao_Paulo;VALUE=DATE-TIME:20260423T180000
DTSTAMP;VALUE=DATE-TIME:20260423T013448Z
UID:fbd3cd16706c4421869d46a816e61df6@150.164.76.86:8080
CREATED;VALUE=DATE-TIME:20260417T152801Z
DESCRIPTION:<p>Acompanhamento usual e gravação do audio</p>
LAST-MODIFIED;VALUE=DATE-TIME:20260417T152822Z
URL:http://150.164.76.86:8080/cac/agenda/5063748512728677099
END:VEVENT
BEGIN:VEVENT
SUMMARY:Primeiro Debate da Eleição 2026 do DAICEx-UFMG em [ Auditório B
 106 do CAD 3]
DTSTART;TZID=America/Sao_Paulo;VALUE=DATE-TIME:20260423T180000
DTEND;TZID=America/Sao_Paulo;VALUE=DATE-TIME:20260423T210000
DTSTAMP;VALUE=DATE-TIME:20260423T013448Z
UID:e6c90662487c414ab169e72526544128@150.164.76.86:8080
CREATED;VALUE=DATE-TIME:20260422T112954Z
DESCRIPTION:Se trata do primeiro debate da Eleição da Gestão 2026/2027 
 da Diretoria do Diretório Acadêmico "Francisco de Assis Magalhães" do I
 nstituto de Ciências Exatas\, que está sendo organizada e realizada pelo
  DCE.
LAST-MODIFIED;VALUE=DATE-TIME:20260422T181322Z
URL:http://150.164.76.86:8080/cac/agenda/15500134635830151134
END:VEVENT
BEGIN:VEVENT
SUMMARY:Cinebedate LAPJUS em [ Auditorio A102 do Cad 2]
DTSTART;TZID=America/Sao_Paulo;VALUE=DATE-TIME:20260423T180000
DTEND;TZID=America/Sao_Paulo;VALUE=DATE-TIME:20260423T210000
DTSTAMP;VALUE=DATE-TIME:20260423T013448Z
UID:762694ab116c4be994e6e1d98e2dbb94@150.164.76.86:8080
CREATED;VALUE=DATE-TIME:20260407T151805Z
DESCRIPTION:Apresentação de um documentário e posterior debate sobre a 
 temática.
LAST-MODIFIED;VALUE=DATE-TIME:20260408T185751Z
URL:http://150.164.76.86:8080/cac/agenda/preagenda/9742834200161424573
END:VEVENT
BEGIN:VTIMEZONE
TZID:America/Sao_Paulo
X-LIC-LOCATION:America/Sao_Paulo
BEGIN:STANDARD
DTSTART;VALUE=DATE-TIME:20260221T230000
TZNAME:BRT
TZOFFSETFROM:-0200
TZOFFSETTO:-0300
END:STANDARD
END:VTIMEZONE
END:VCALENDAR
