BEGIN:VCALENDAR
VERSION:2.0
PRODID:-//Plone.org//NONSGML plone.app.event//EN
X-WR-TIMEZONE:America/Sao_Paulo
BEGIN:VEVENT
SUMMARY:Feira de Artesanato do Vale do Jequitinhonha em [ Entorno da Praca
  de Servicos]
DTSTART;TZID=America/Sao_Paulo;VALUE=DATE-TIME:20260423T090000
DTEND;TZID=America/Sao_Paulo;VALUE=DATE-TIME:20260430T180000
DTSTAMP;VALUE=DATE-TIME:20260426T010605Z
UID:7a3b1109c1d343c686923bb7fa29a1df@150.164.76.86:8080
CREATED;VALUE=DATE-TIME:20260115T170804Z
DESCRIPTION:<p>Montagem Feira.</p>
LAST-MODIFIED;VALUE=DATE-TIME:20260423T183919Z
URL:http://150.164.76.86:8080/cac/agenda/18014407992096626512
END:VEVENT
BEGIN:VEVENT
SUMMARY:Mostra de Agroecologia em [ Arena da praça de serviços Entorno d
 a Praca de Servicos]
DTSTART;TZID=America/Sao_Paulo;VALUE=DATE-TIME:20260427T070000
DTEND;TZID=America/Sao_Paulo;VALUE=DATE-TIME:20260430T180000
DTSTAMP;VALUE=DATE-TIME:20260426T010605Z
UID:fd31fa23260a4128b2811fd41585c457@150.164.76.86:8080
CREATED;VALUE=DATE-TIME:20251216T160128Z
DESCRIPTION:A Mostra de Agroecologia deve contar com exposição\, rodas d
 e conversa\, atrações culturais e feira de produtores. A programação a
 inda está sendo construída.
LAST-MODIFIED;VALUE=DATE-TIME:20251216T185035Z
URL:http://150.164.76.86:8080/cac/agenda/preagenda/2632134080129821532
END:VEVENT
BEGIN:VEVENT
SUMMARY:Workshop- Pró-Reitoria de Administração em [ Auditorio da Reito
 ria]
DTSTART;TZID=America/Sao_Paulo;VALUE=DATE-TIME:20260427T070000
DTEND;TZID=America/Sao_Paulo;VALUE=DATE-TIME:20260427T190000
DTSTAMP;VALUE=DATE-TIME:20260426T010605Z
UID:9206337c43204d04a5844f546aebf88b@150.164.76.86:8080
CREATED;VALUE=DATE-TIME:20260325T131844Z
DESCRIPTION:<p>Worshop a ser promovido pela Pró-Reitoria de Administraç
 ão.</p>
LAST-MODIFIED;VALUE=DATE-TIME:20260327T135408Z
URL:http://150.164.76.86:8080/cac/agenda/18172711581068726572
END:VEVENT
BEGIN:VEVENT
SUMMARY:Mostra de Agroecologia em [ Arena da praça de serviços Entorno d
 a Praca de Servicos]
DTSTART;TZID=America/Sao_Paulo;VALUE=DATE-TIME:20260427T070000
DTEND;TZID=America/Sao_Paulo;VALUE=DATE-TIME:20260430T190000
DTSTAMP;VALUE=DATE-TIME:20260426T010605Z
UID:c758667f42444974a5b7bbb26bfd49d0@150.164.76.86:8080
CREATED;VALUE=DATE-TIME:20251211T201801Z
DESCRIPTION:A programação do evento ainda está sendo elaborada.
LAST-MODIFIED;VALUE=DATE-TIME:20251216T184943Z
URL:http://150.164.76.86:8080/cac/agenda/preagenda/9237083312446341626
END:VEVENT
BEGIN:VEVENT
SUMMARY:CONCURSO TAE UFMG - Bancas de Heteroidentificação em [ Auditóri
 o B101/102 do CAD 3 (101 s/ ar condic) Auditório B106 do CAD 3 Auditório
  B107 do CAD 3]
DTSTART;TZID=America/Sao_Paulo;VALUE=DATE-TIME:20260427T073000
DTEND;TZID=America/Sao_Paulo;VALUE=DATE-TIME:20260430T183000
DTSTAMP;VALUE=DATE-TIME:20260426T010605Z
UID:32684228b3134a39b80184e9c4862ddc@150.164.76.86:8080
CREATED;VALUE=DATE-TIME:20260416T111641Z
DESCRIPTION:Realização das bancas de heteroidentificação para 1600 can
 didatos habilitados no Concurso para Servidores Técnico-Administrativos e
 m Educação da UFMG
LAST-MODIFIED;VALUE=DATE-TIME:20260416T120609Z
URL:http://150.164.76.86:8080/cac/agenda/253736591471603992
END:VEVENT
BEGIN:VEVENT
SUMMARY:Evento - Pró-Reitoria de Administração em [ Outros espacos]
DTSTART;TZID=America/Sao_Paulo;VALUE=DATE-TIME:20260427T080000
DTEND;TZID=America/Sao_Paulo;VALUE=DATE-TIME:20260427T180000
DTSTAMP;VALUE=DATE-TIME:20260426T010605Z
UID:b3b5ce36689140219f12cb43663bdcff@150.164.76.86:8080
CREATED;VALUE=DATE-TIME:20260327T121137Z
DESCRIPTION:Evento da Pró-Reitoria de Administração
LAST-MODIFIED;VALUE=DATE-TIME:20260327T144317Z
URL:http://150.164.76.86:8080/cac/agenda/preagenda/14809337452964660853
END:VEVENT
BEGIN:VEVENT
SUMMARY:Posse diretoria IGC em [ Outros espacos]
DTSTART;TZID=America/Sao_Paulo;VALUE=DATE-TIME:20260427T180000
DTEND;TZID=America/Sao_Paulo;VALUE=DATE-TIME:20260427T200000
DTSTAMP;VALUE=DATE-TIME:20260426T010605Z
UID:c96066af484c42dab9a7b49f5880bbc1@150.164.76.86:8080
CREATED;VALUE=DATE-TIME:20260406T172302Z
DESCRIPTION:<p><span style="text-align: start\; text-decoration-thickness:
  initial\; text-decoration-style: initial\; text-decoration-color: initial
 \; float: none\; ">Posse diretoria IGC</span></p>
LAST-MODIFIED;VALUE=DATE-TIME:20260406T174309Z
URL:http://150.164.76.86:8080/cac/agenda/2323043522321565175
END:VEVENT
BEGIN:VEVENT
SUMMARY:Aula Magna PPGCC em [ Auditorio Nobre do CAD 1 - sem copa\, saguã
 o parcial]
DTSTART;TZID=America/Sao_Paulo;VALUE=DATE-TIME:20260427T190000
DTEND;TZID=America/Sao_Paulo;VALUE=DATE-TIME:20260427T220000
DTSTAMP;VALUE=DATE-TIME:20260426T010605Z
UID:466c2001d80c469ca772b29b9bb813a3@150.164.76.86:8080
CREATED;VALUE=DATE-TIME:20260423T162939Z
DESCRIPTION:A Aula Magna do Programa de Pós-Graduação em Controladoria 
 e Contabilidade (PPGCC) da UFMG contará com a participação do Prof. Dr.
  Antônio Paulo Machado Gomes\, que abordará o tema “Reforma Tributári
 a no Brasil: Desafios\, Oportunidades e Agenda de Pesquisa em Controladori
 a e Contabilidade”. O evento tem como objetivo promover a reflexão acad
 êmica sobre as transformações recentes no sistema tributário brasileir
 o\, discutindo seus impactos para a gestão das organizações e para a pr
 odução científica na área contábil. Além de analisar os principais d
 esafios e oportunidades decorrentes da reforma\, a aula também buscará a
 pontar caminhos para o desenvolvimento de pesquisas futuras\, contribuindo
  para o fortalecimento do debate acadêmico e profissional no campo da con
 troladoria e contabilidade. Destaca-se a impossibilidade de realizar o eve
 nto na FACE/UFMG em função da greve. Será necessário projeto e microfo
 ne.
LAST-MODIFIED;VALUE=DATE-TIME:20260423T174715Z
URL:http://150.164.76.86:8080/cac/agenda/7397106860433157522
END:VEVENT
BEGIN:VEVENT
SUMMARY:JORNADA DA EXTENSÃO em [ Entorno da Praca de Servicos]
DTSTART;TZID=America/Sao_Paulo;VALUE=DATE-TIME:20260428T070000
DTEND;TZID=America/Sao_Paulo;VALUE=DATE-TIME:20260429T190000
DTSTAMP;VALUE=DATE-TIME:20260426T010605Z
UID:9b027934172144b1a3af460b7fef85dd@150.164.76.86:8080
CREATED;VALUE=DATE-TIME:20260114T142352Z
DESCRIPTION:<p>Mesa de abertura Mesa com duas cadeiras e pontos de energia
  para cada inscrito (aproximadamente 50 inscrições) Programação do eve
 nto a definir</p>
LAST-MODIFIED;VALUE=DATE-TIME:20260416T121327Z
URL:http://150.164.76.86:8080/cac/agenda/13667248291804672
END:VEVENT
BEGIN:VEVENT
SUMMARY:Mostra CAAD 2025 em [ Auditorio Nobre do CAD 1 - sem copa\, saguã
 o parcial]
DTSTART;TZID=America/Sao_Paulo;VALUE=DATE-TIME:20260428T080000
DTEND;TZID=America/Sao_Paulo;VALUE=DATE-TIME:20260429T220000
DTSTAMP;VALUE=DATE-TIME:20260426T010605Z
UID:b352a4a09cd04cc3a7ccb94cbdd67b62@150.164.76.86:8080
CREATED;VALUE=DATE-TIME:20260227T194315Z
DESCRIPTION:Equipamentos:\n\n3 microfones com fio para os mediadores do ev
 ento/mesa redonda com as equipes dos filmes e 3 microfones sem fio para di
 recionar perguntas do público\nProjetor e mesa de som\nMesa com 6 cadeira
 s para mediadores e equipes.\n\nServiços necessários:\n\nTeste de exibi
 ção dos filmes no dia 28/04 com nosso técnico\, lotado no departamento 
 de Fotografia e Cinema\, para montagem de luz e som de todos os filmes a s
 erem exibidos no dia 29/04.\n\nProgramação do evento:\n\nMostra de filme
 s de graduação dos alunos do curso de Cinema de Animação e Artes Digit
 ais\, incluindo mesa redonda com as equipes realizadoras\, além de exibi
 ção de trabalhos audiovisuais de disciplinas e atividades curriculares d
 o curso. No evento haverá também o lançamento da revista eletrônica do
  curso\, com exibição dos textos e artigos acadêmicos selecionados pelo
 s coordenadores da revista..
LAST-MODIFIED;VALUE=DATE-TIME:20260304T191302Z
URL:http://150.164.76.86:8080/cac/agenda/18058709301410020106
END:VEVENT
BEGIN:VEVENT
SUMMARY:EXAME CELPE-BRAS em [ Auditorio A102 do Cad 2]
DTSTART;TZID=America/Sao_Paulo;VALUE=DATE-TIME:20260428T080000
DTEND;TZID=America/Sao_Paulo;VALUE=DATE-TIME:20260428T130000
DTSTAMP;VALUE=DATE-TIME:20260426T010605Z
UID:da8530b9f85748eb82f3ae7ca1346420@150.164.76.86:8080
CREATED;VALUE=DATE-TIME:20260209T162808Z
DESCRIPTION:Aplicação do exame Celpe-bras. O evento inicia as 08:00 da m
 anha com recepção dos candidatos. A prova dura 3 horas.\nSão necessári
 os os seguintes equipamentos:\n\nMicrofone\;\nDatashow\;\nLaptop\;\nSom\;\
 nduas mesas e cadeiras no saguão para recepção dos candidatos\;\n12 cad
 eiras de canhoto para atender aos candidatos que não conseguem usar o apo
 io para escrever.
LAST-MODIFIED;VALUE=DATE-TIME:20260211T194918Z
URL:http://150.164.76.86:8080/cac/agenda/18032509896577119917
END:VEVENT
BEGIN:VEVENT
SUMMARY:II Encontro Nacional Somos Corisco em [ Auditorio A102 do Cad 2]
DTSTART;TZID=America/Sao_Paulo;VALUE=DATE-TIME:20260428T140000
DTEND;TZID=America/Sao_Paulo;VALUE=DATE-TIME:20260428T223000
DTSTAMP;VALUE=DATE-TIME:20260426T010605Z
UID:1466980502ce44deadc989ba6c458d3c@150.164.76.86:8080
CREATED;VALUE=DATE-TIME:20260211T222119Z
DESCRIPTION:Realização da cerimônia de abertura do II Encontro Nacional
  Somos Corisco 2026: Curar a Terra e escutar os mundos que ela abriga. Abe
 rtura com as colideres do Corisco Prof. Dra. Luciana de Oliveira - Departa
 mento de Comunicação Social/Fafich e Formação Transversal em Saberes T
 radicionais da UFMG - e Profa. Dra. Capitã Pedrina de Lourdes Santos - Ir
 mandade Os Lenídios\, Oliveira-MG\, e PCTRAMA - Povos e Comunidades de Tr
 adição Religiosa Ancestral de Matriz Africana. Conferência de Abertura:
  Justiça Epistêmica e Comunicação Intermundos para um Mundo Sustentáv
 el\, com convidados em etapa final de confirmação.  O II Encontro Nacion
 al Somos Corisco – 2026 adota uma abordagem metodológica inovadora\, fu
 ndamentada na oralidade e na escuta ativa como estratégias de produção 
 e circulação de conhecimento. Essa diretriz está alinhada aos princípi
 os epistêmicos afropindorâmicos que orientam o projeto e visa qualificar
  o evento como um espaço de incubação e validação de tecnologias soci
 ais com base territorial e cultural. O II Encontro Nacional Somos Corisco 
 foi contemplado com fomento do CHAMADA FAPEMIG 005/2025\, para Organizaç
 ão de Eventos de Caráter Técnico-Científico - OET.
LAST-MODIFIED;VALUE=DATE-TIME:20260223T183804Z
URL:http://150.164.76.86:8080/cac/agenda/10251695544986075668
END:VEVENT
BEGIN:VEVENT
SUMMARY:V  SLIM - Simpósio do Laboratório de Imunofarmacologia em [ Audi
 torio A104 do Cad 2]
DTSTART;TZID=America/Sao_Paulo;VALUE=DATE-TIME:20260429T080000
DTEND;TZID=America/Sao_Paulo;VALUE=DATE-TIME:20260430T210000
DTSTAMP;VALUE=DATE-TIME:20260426T010605Z
UID:0c789927750145759f5eac55fada4e8e@150.164.76.86:8080
CREATED;VALUE=DATE-TIME:20260205T140206Z
DESCRIPTION:<p>OBS: POR FAVOR DESCONSIDERAR AS SOLICITAÇÕES ANTERIORES E
  CONSIDERAR ESSA AQUI! O V Simpósio do Laboratório de Imunofarmacologia 
 será realizado de forma integrada ao Encontro do Instituto Nacional de Ci
 ência e Tecnologia em Dengue e Interação Microrganismo-Hospedeiro (INCT
 -D) e ao Encontro de Pesquisadores do Edital Rede FAPEMIG\, configurando-s
 e como um evento científico fechado\, destinado exclusivamente aos pesqui
 sadores integrantes das redes envolvidas e seus respectivos estudantes de 
 graduação\, pós-graduação e pós-doutorado. O evento tem como objetiv
 o promover a integração científica e institucional entre os grupos part
 icipantes\, estimulando a troca de experiências\, a discussão crítica d
 e resultados e o planejamento estratégico de ações conjuntas nas áreas
  de imunofarmacologia\, inflamação\, interação microrganismo-hospedeir
 o\, arboviroses e desenvolvimento de estratégias terapêuticas inovadoras
 \, com foco na consolidação e fortalecimento das redes de pesquisa finan
 ciadas. O simpósio constitui também um espaço privilegiado para a apres
 entação de resultados científicos\, avaliação do andamento dos projet
 os\, identificação de sinergias entre linhas de pesquisa\, formação de
  recursos humanos qualificados e definição de perspectivas futuras de co
 laboração\, inovação e translacionalidade. A programação contemplar
 á: Sessão de abertura e alinhamento institucional\; Palestras e exposiç
 ões técnicas realizadas pelos pesquisadores das redes envolvidas\; Mesas
 -redondas temáticas para discussão de resultados\, desafios e perspectiv
 as\; Sessões científicas dedicadas ao INCT-D e à Rede FAPEMIG\, com apr
 esentação do andamento e dos produtos dos projetos financiados\; Sessão
  de pôsteres científicos\, com participação ativa de estudantes e jove
 ns pesquisadores\; Reuniões técnicas e estratégicas internas para plane
 jamento de ações futuras\; Sessão de encerramento e definição de enca
 minhamentos. Para a realização do evento\, serão necessários: Espaço 
 físico adequado (auditório e salas de apoio)\; Sistema de projeção mul
 timídia (datashow e tela)\; Computador para apresentações\; Sistema de 
 som com microfones\; Acesso à internet (Wi-Fi)\; 40 cavaletes para exposi
 ção de pôsteres científicos\;</p>
LAST-MODIFIED;VALUE=DATE-TIME:20260209T180819Z
URL:http://150.164.76.86:8080/cac/agenda/4692508695920522966
END:VEVENT
BEGIN:VEVENT
SUMMARY:Dinâmicas de grupo/técnicas grupais e diferentes modalidades de 
 grupona saúde em [ Auditório B107 do CAD 3]
DTSTART;TZID=America/Sao_Paulo;VALUE=DATE-TIME:20260429T130000
DTEND;TZID=America/Sao_Paulo;VALUE=DATE-TIME:20260429T163000
DTSTAMP;VALUE=DATE-TIME:20260426T010605Z
UID:256151572365488dbb86b76cd8d1a331@150.164.76.86:8080
CREATED;VALUE=DATE-TIME:20260409T103948Z
DESCRIPTION:Aula com convidado externo para discussão e experiência de p
 ráticas grupais na saúde. Necessário: caixa de som\, internet e video c
 onferência.
LAST-MODIFIED;VALUE=DATE-TIME:20260413T173037Z
URL:http://150.164.76.86:8080/cac/agenda/preagenda/11999214674763685120
END:VEVENT
BEGIN:VEVENT
SUMMARY:Seminário de Avaliação e Planejamento Estratégico do Mestrado 
 Profissional em Educação e Docência da FaE UFMG em [ Auditório B106 do
  CAD 3]
DTSTART;TZID=America/Sao_Paulo;VALUE=DATE-TIME:20260429T140000
DTEND;TZID=America/Sao_Paulo;VALUE=DATE-TIME:20260429T180000
DTSTAMP;VALUE=DATE-TIME:20260426T010605Z
UID:64d35be6de9f484ab88ed4a4ee1d4f7c@150.164.76.86:8080
CREATED;VALUE=DATE-TIME:20260415T091634Z
DESCRIPTION:1. Projetor de Slides\n2. Sistema de som e microfone para o ap
 resentar e um para o público
LAST-MODIFIED;VALUE=DATE-TIME:20260417T164112Z
URL:http://150.164.76.86:8080/cac/agenda/preagenda/1644065280983102597
END:VEVENT
BEGIN:VEVENT
SUMMARY:Reunião Prograd + Colegiados (FALE\, FAFICH\, FAE e ECI) em [ Aud
 itorio A102 do Cad 2]
DTSTART;TZID=America/Sao_Paulo;VALUE=DATE-TIME:20260429T140000
DTEND;TZID=America/Sao_Paulo;VALUE=DATE-TIME:20260429T170000
DTSTAMP;VALUE=DATE-TIME:20260426T010605Z
UID:1051783138884314bc43e69b41ccc85b@150.164.76.86:8080
CREATED;VALUE=DATE-TIME:20260408T141911Z
DESCRIPTION:<p>Necessita microfone de mesa\, microfone avulso e apoio para
  projeção.</p>
LAST-MODIFIED;VALUE=DATE-TIME:20260409T200705Z
URL:http://150.164.76.86:8080/cac/agenda/15864816888329831803
END:VEVENT
BEGIN:VEVENT
SUMMARY:Picaderró: forró no campus em [ Arena da praça de serviços]
DTSTART;TZID=America/Sao_Paulo;VALUE=DATE-TIME:20260429T173000
DTEND;TZID=America/Sao_Paulo;VALUE=DATE-TIME:20260429T190000
DTSTAMP;VALUE=DATE-TIME:20260426T010605Z
UID:200d468512c44f56b1cf1b3c5e66565c@150.164.76.86:8080
CREATED;VALUE=DATE-TIME:20260423T184908Z
DESCRIPTION:forró aberto ao público
LAST-MODIFIED;VALUE=DATE-TIME:20260423T184908Z
URL:http://150.164.76.86:8080/cac/agenda/preagenda/16047981729620279632
END:VEVENT
BEGIN:VEVENT
SUMMARY:Apresentação documentário Esperança Equilibrista em [ Auditori
 o da Reitoria]
DTSTART;TZID=America/Sao_Paulo;VALUE=DATE-TIME:20260429T180000
DTEND;TZID=America/Sao_Paulo;VALUE=DATE-TIME:20260429T220000
DTSTAMP;VALUE=DATE-TIME:20260426T010605Z
UID:a1f6a5ee8ac34b69985d2bb9b15d58b5@150.164.76.86:8080
CREATED;VALUE=DATE-TIME:20260324T143950Z
DESCRIPTION:<p>Exibição documentário Esperança Equilibrista</p>
LAST-MODIFIED;VALUE=DATE-TIME:20260324T144102Z
URL:http://150.164.76.86:8080/cac/agenda/10812112939131347540
END:VEVENT
BEGIN:VEVENT
SUMMARY:AACC Letras-Libras: Mesa-redonda  Expressões idiomáticas em Libr
 as e a configuração de mão como unidade significativa: perspectivas sem
 ântico-lexicais na formação dos sinais em [ Auditorio A102 do Cad 2]
DTSTART;TZID=America/Sao_Paulo;VALUE=DATE-TIME:20260429T190000
DTEND;TZID=America/Sao_Paulo;VALUE=DATE-TIME:20260429T213000
DTSTAMP;VALUE=DATE-TIME:20260426T010605Z
UID:a20fc6ed58ad4412a3e5e16112d2d973@150.164.76.86:8080
CREATED;VALUE=DATE-TIME:20260226T135509Z
DESCRIPTION:A mesa-redonda propõe discutir aspectos semântico-lexicais d
 a Língua Brasileira de Sinais (Libras)\, focalizando dois eixos complemen
 tares: \n(i) o funcionamento das expressões idiomáticas enquanto constru
 ções lexicalizadas e culturalmente motivadas e\n(ii) o papel da configur
 ação de mão como unidade linguística significativa na formação e na 
 organização do léxico sinalizado.\nA discussão articula fundamentos da
  linguística das línguas de sinais\, da semântica lexical e da fonologi
 a\, evidenciando como forma \ne significado se relacionam na construção 
 de sentidos em Libras\, com implicações para descrição linguística\, 
 ensino e interpretação.\n\nObjetivos\n	•	Analisar expressões idiomát
 icas em Libras sob a perspectiva semântico-lexical.\n	•	Discutir proces
 sos de lexicalização e convencionalização no léxico sinalizado.\n	•
 	Examinar a configuração de mão como parâmetro fonológico dotado de v
 alor semântico-funcional.\n	•	Refletir sobre impactos dessas análises 
 para o ensino\, pesquisa e documentação da Libras.\n\nPalestrantes (2)\n
 \nPalestrante 1: Jaqueline Boldo— Expressões idiomáticas em Libras: ab
 ordagem semântico-lexical\n	•	Conceito de idiomaticidade em línguas de
  sinais\n	•	Motivação cultural e metáfora conceptual\n	•	Fixação 
 lexical e variação\n	•	Relações entre sentido literal e sentido idio
 mático\n	•	Implicações para ensino e tradução\n\nPalestrante 2: Dal
 tro Roque Carvalho da Silva Junior— Configuração de mão como unidade 
 significativa na formação dos sinais\n	•	Parâmetros fonológicos das 
 línguas de sinais\n	•	Configuração de mão e restrições fonológica
 s\n	•	Iconicidade e motivação semântica\n	•	Processos de formação
  lexical em Libras\n	•	Interface fonologia–semântica\n\nFormato suger
 ido\n	•	Exposição do Palestrante 1:00\n	•	Exposição do Palestrante
  1:00\n	•	Debate mediado: 20 min\n	•	Perguntas do público: 10 min
LAST-MODIFIED;VALUE=DATE-TIME:20260304T190049Z
URL:http://150.164.76.86:8080/cac/agenda/14620767448471679935
END:VEVENT
BEGIN:VEVENT
SUMMARY:Palestra: O futuro professor diante da neurodiversidade: desafios 
 e possibilidades na sala de aula. em [ Outros espacos]
DTSTART;TZID=America/Sao_Paulo;VALUE=DATE-TIME:20260429T190000
DTEND;TZID=America/Sao_Paulo;VALUE=DATE-TIME:20260429T204000
DTSTAMP;VALUE=DATE-TIME:20260426T010605Z
UID:64799b0a7fc742848e4a0b14e9deb8fc@150.164.76.86:8080
CREATED;VALUE=DATE-TIME:20260417T181457Z
DESCRIPTION:O seminário “O futuro professor diante da neurodiversidade:
  desafios e possibilidades na sala de aula” tem como objetivo promover r
 eflexões acerca da atuação docente frente à diversidade de formas de a
 prendizagem\, comportamento e funcionamento neurocognitivo presentes no co
 ntexto escolar. Serão discutidos os principais desafios vivenciados pelo 
 professor em formação no acolhimento de alunos neurodivergentes\, bem co
 mo possibilidades de observação\, manejo pedagógico e construção de p
 ráticas inclusivas no cotidiano da sala de aula. A proposta busca contrib
 uir para a formação inicial de professores\, favorecendo a ampliação d
 o olhar sobre a singularidade dos estudantes e o papel do docente na promo
 ção de ambientes de aprendizagem mais acessíveis\, acolhedores e inclus
 ivos.\n\nPalestrante: Eline Moreira\nPsicóloga\, Neuropsicóloga\, Pedago
 ga\, Psicopedagoga e Educadora Parental.\n\nSerão necessários: projetor 
 e microfone.
LAST-MODIFIED;VALUE=DATE-TIME:20260423T171448Z
URL:http://150.164.76.86:8080/cac/agenda/preagenda/13366102777557951484
END:VEVENT
BEGIN:VEVENT
SUMMARY:Seminário do INCT Gestrado em [ Auditório B106 do CAD 3]
DTSTART;TZID=America/Sao_Paulo;VALUE=DATE-TIME:20260430T080000
DTEND;TZID=America/Sao_Paulo;VALUE=DATE-TIME:20260430T180000
DTSTAMP;VALUE=DATE-TIME:20260426T010605Z
UID:1cc796d79c064078b3f7a446942bbd9e@150.164.76.86:8080
CREATED;VALUE=DATE-TIME:20260316T155540Z
DESCRIPTION:O evento vai durar o dia todo e consta de apresentações real
 izadas pela equipe do INCT Gestrado\, com convidados internacionais que fa
 zem parte do projeto. A parte da manhã será dedicada à aparesentação 
 do que foi realizado \naté agora e a parte da tarde para o planejamento d
 a soutras atividades.
LAST-MODIFIED;VALUE=DATE-TIME:20260319T172842Z
URL:http://150.164.76.86:8080/cac/agenda/preagenda/3053006014612432126
END:VEVENT
BEGIN:VEVENT
SUMMARY:Encontro INCT De Políticas de Educação e Trabalho Docente em [ 
 Auditorio A102 do Cad 2]
DTSTART;TZID=America/Sao_Paulo;VALUE=DATE-TIME:20260430T080000
DTEND;TZID=America/Sao_Paulo;VALUE=DATE-TIME:20260430T200000
DTSTAMP;VALUE=DATE-TIME:20260426T010605Z
UID:4feafa49e94d4b19b8f90e621e1c2e9a@150.164.76.86:8080
CREATED;VALUE=DATE-TIME:20260313T132948Z
DESCRIPTION:<p>Encontro INCT De Políticas de Educação e Trabalho Docent
 e Projetor e microfone -</p>
LAST-MODIFIED;VALUE=DATE-TIME:20260422T194657Z
URL:http://150.164.76.86:8080/cac/agenda/17689300451355439230
END:VEVENT
BEGIN:VEVENT
SUMMARY:Abril Indígena 2026 em [ Outros espacos]
DTSTART;TZID=America/Sao_Paulo;VALUE=DATE-TIME:20260430T180000
DTEND;TZID=America/Sao_Paulo;VALUE=DATE-TIME:20260430T220000
DTSTAMP;VALUE=DATE-TIME:20260426T010605Z
UID:34151c02b1b7434f98bbb85d543e6b21@150.164.76.86:8080
CREATED;VALUE=DATE-TIME:20260413T203947Z
DESCRIPTION:Evento do Abril Indígena.\n\nNecessário um microfone e a mes
 a central com cadeiras.\n\nMais próximo do evento\, esclareceremos outras
  dúvidas.
LAST-MODIFIED;VALUE=DATE-TIME:20260414T142719Z
URL:http://150.164.76.86:8080/cac/agenda/12055460869816362183
END:VEVENT
BEGIN:VEVENT
SUMMARY:DIA DO TRABALHO em [ Auditorio da Reitoria Saguao da Reitoria Gram
 ado da Reitoria Arena da praça de serviços Entorno da Praca de Servicos 
 Auditorio Nobre do CAD 1 - sem copa\, saguão parcial Auditorio 1A do CAD 
 1 Auditorio 2A do CAD 1 Auditorio A102 do Cad 2 Auditorio A104 do Cad 2 Au
 ditório B101/102 do CAD 3 (102 s/ ar condic) Auditório B106 do CAD 3 Aud
 itório B107 do CAD 3 Auditório B301 do CAD 3 Auditório B302 do CAD 3 Au
 ditório B306 do CAD 3]
DTSTART;TZID=America/Sao_Paulo;VALUE=DATE-TIME:20260501T060000
DTEND;TZID=America/Sao_Paulo;VALUE=DATE-TIME:20260501T230000
DTSTAMP;VALUE=DATE-TIME:20260426T010605Z
UID:be2f779eb83c47789fc0fb61f9b48731@150.164.76.86:8080
CREATED;VALUE=DATE-TIME:20250916T203440Z
DESCRIPTION:<p>DIA DO TRABALHO</p>
LAST-MODIFIED;VALUE=DATE-TIME:20250916T203510Z
URL:http://150.164.76.86:8080/cac/agenda/10693561590963121613
END:VEVENT
BEGIN:VEVENT
SUMMARY:Feira de Artesanato do Vale do Jequitinhonha em [ Arena da praça 
 de serviços Entorno da Praca de Servicos]
DTSTART;TZID=America/Sao_Paulo;VALUE=DATE-TIME:20260502T080000
DTEND;TZID=America/Sao_Paulo;VALUE=DATE-TIME:20260505T180000
DTSTAMP;VALUE=DATE-TIME:20260426T010605Z
UID:dfa92634df8d41049f33674f326d699d@150.164.76.86:8080
CREATED;VALUE=DATE-TIME:20260115T171151Z
DESCRIPTION:Equipamento de som e técnico.\n\nReserva dividida\, depende d
 e conversa com DGA sobre Feira agroecológica programada para 06/05.
LAST-MODIFIED;VALUE=DATE-TIME:20260309T180909Z
URL:http://150.164.76.86:8080/cac/agenda/410575079828273181
END:VEVENT
BEGIN:VTIMEZONE
TZID:America/Sao_Paulo
X-LIC-LOCATION:America/Sao_Paulo
BEGIN:STANDARD
DTSTART;VALUE=DATE-TIME:20260221T230000
TZNAME:BRT
TZOFFSETFROM:-0200
TZOFFSETTO:-0300
END:STANDARD
END:VTIMEZONE
END:VCALENDAR
